BEGIN:VCALENDAR
VERSION:2.0
PRODID:-//OmniMagnetCalendar//EN
BEGIN:VEVENT
DTSTAMP:20190625T195740Z
STATUS:CONFIRMED
UID:hcstlouis.clubs.harvard.edu370
DTSTART:20250908T223000Z
DTEND:20250909T003000Z
LOCATION:CJ Mugg's, 200 S Central Ave, Clayton, MO, 63105,
SUMMARY:HBS Club of Saint Louis:  Fall Kickoff and Recent Alumni Panel
DESCRIPTION:
BEGIN:VALARM
TRIGGER:-PT15M
ACTION:DISPLAY
END:VALARM
TRANSP:OPAQUE
END:VEVENT
END:VCALENDAR
