BEGIN:VCALENDAR
VERSION:2.0
PRODID:-//OmniMagnetCalendar//EN
BEGIN:VEVENT
DTSTAMP:20190625T195740Z
STATUS:CONFIRMED
UID:hcstlouis.clubs.harvard.edu363
DTSTART:20250202T233000Z
DTEND:20250203T023000Z
LOCATION:Lulu Seafood Restaurant, 8224 Olive Blvd, St. Louis, MO, 63132,
SUMMARY:*All-Ivy CHINESE NEW YEAR BANQUET - Feb 2, 2025
DESCRIPTION:*All-Ivy CHINESE NEW YEAR BANQUET* Sunday, February 2nd, 2025 5:30-8:30pm Lulu Seafood Restaurant 8224 Olive Blvd, St. Louis 63132 This event is hosted jointly with various ivy league clubs in the area. RSVP and tickets required.
BEGIN:VALARM
TRIGGER:-PT15M
ACTION:DISPLAY
END:VALARM
TRANSP:OPAQUE
END:VEVENT
END:VCALENDAR
