BEGIN:VCALENDAR
VERSION:2.0
PRODID:-//OmniMagnetCalendar//EN
BEGIN:VEVENT
DTSTAMP:20190625T195740Z
STATUS:CONFIRMED
UID:hcstlouis.clubs.harvard.edu362
DTSTART:20241221T000000Z
DTEND:20241221T040000Z
LOCATION:Home of Katherine Bernhardt, 5725 Lindell Blvd, St. Louis, MO, 63112,
SUMMARY:ANNUAL HOLIDAY PARTY - Dec 20th 2024
DESCRIPTION:The Harvard Club of St. Louis is hosting it's Annual Holiday Party on Dec 20th 2024 Time: 6:00-10:00pm CT Event Type: In-person Location: Home of Katherine Bernhardt 5725 Lindell Blvd St. Louis, MO 63112
BEGIN:VALARM
TRIGGER:-PT15M
ACTION:DISPLAY
END:VALARM
TRANSP:OPAQUE
END:VEVENT
END:VCALENDAR
