BEGIN:VCALENDAR
VERSION:2.0
PRODID:-//OmniMagnetCalendar//EN
BEGIN:VEVENT
DTSTAMP:20190625T195740Z
STATUS:CONFIRMED
UID:hcstlouis.clubs.harvard.edu361
DTSTART:20240911T220000Z
DTEND:20240912T000000Z
LOCATION:CJ Muggs, 200 S. Central St, Clayton, MO, 63105,
SUMMARY:Welcome to Your City Event - Sep 11, 2024
DESCRIPTION:The Harvard Club of St. Louis is organizing a Welcome to Your City Event for September 11, 2024 Time: 5:30-7:30 p.m. CT Event Type: In-person Location: CJ Muggs, 200 S. Central St, Clayton, MO 63105 United States
BEGIN:VALARM
TRIGGER:-PT15M
ACTION:DISPLAY
END:VALARM
TRANSP:OPAQUE
END:VEVENT
END:VCALENDAR
