BEGIN:VCALENDAR
VERSION:2.0
PRODID:-//OmniMagnetCalendar//EN
BEGIN:VEVENT
DTSTAMP:20190625T195740Z
STATUS:CONFIRMED
UID:hcstlouis.clubs.harvard.edu355
DTSTART:20240601T233000Z
DTEND:20240602T030000Z
LOCATION:All-Ivy Family Friendly Gathering at NEW Brentwood Park, 4465 Manchester Ave, St Louis, MO, 63110,
SUMMARY:Shakespeare Festival St Louis
DESCRIPTION:Shakespeare Festival St Louis Saturday, June 1st at 6:30 pm
BEGIN:VALARM
TRIGGER:-PT15M
ACTION:DISPLAY
END:VALARM
TRANSP:OPAQUE
END:VEVENT
END:VCALENDAR
