BEGIN:VCALENDAR
VERSION:2.0
PRODID:-//OmniMagnetCalendar//EN
BEGIN:VEVENT
DTSTAMP:20190625T195740Z
STATUS:CONFIRMED
UID:hcstlouis.clubs.harvard.edu354
DTSTART:20240427T140000Z
DTEND:20240427T160000Z
LOCATION:All-Ivy Family Friendly Gathering at NEW Brentwood Park, 4465 Manchester Ave, St Louis, MO, 63110,
SUMMARY:All-Ivy Family Friendly Gathering at NEW Brentwood Park
DESCRIPTION:All-Ivy Family Friendly Gathering at NEW Brentwood Park NEW State of the Art Brentwood Park  When: 9-11 am Saturday, April 27, 2024
BEGIN:VALARM
TRIGGER:-PT15M
ACTION:DISPLAY
END:VALARM
TRANSP:OPAQUE
END:VEVENT
END:VCALENDAR
