BEGIN:VCALENDAR
VERSION:2.0
PRODID:-//OmniMagnetCalendar//EN
BEGIN:VEVENT
DTSTAMP:20190625T195740Z
STATUS:CONFIRMED
UID:hcstlouis.clubs.harvard.edu352
DTSTART:20240211T210000Z
DTEND:20240211T230000Z
LOCATION:Chili Spot Restaurant, 7930 Olive Blvd, University City, MO, 63130,
SUMMARY:Lunar New Year Celebration
DESCRIPTION:2024  Lunar New Year Celebration: Year of the Dragon!
BEGIN:VALARM
TRIGGER:-PT15M
ACTION:DISPLAY
END:VALARM
TRANSP:OPAQUE
END:VEVENT
END:VCALENDAR
