BEGIN:VCALENDAR
VERSION:2.0
PRODID:-//OmniMagnetCalendar//EN
BEGIN:VEVENT
DTSTAMP:20190625T195740Z
STATUS:CONFIRMED
UID:hcstlouis.clubs.harvard.edu350
DTSTART:20231216T000000Z
DTEND:20231216T030000Z
LOCATION:Home of Henny & Carol Herbosa, 848 Revere Drive  , Town & Country, MO, 63141, United States,
SUMMARY:Annual Holiday Party -- December 15, 2023
DESCRIPTION:Please join us at the home of Henny Herbosa the evening of Fri, December, 15.  Reconnect with local alumni, meet current students, welcome new members and spread some Holiday cheer with a donation to Operation Food Search
BEGIN:VALARM
TRIGGER:-PT15M
ACTION:DISPLAY
END:VALARM
TRANSP:OPAQUE
END:VEVENT
END:VCALENDAR
