BEGIN:VCALENDAR
VERSION:2.0
PRODID:-//OmniMagnetCalendar//EN
BEGIN:VEVENT
DTSTAMP:20190625T195740Z
STATUS:CONFIRMED
UID:hcstlouis.clubs.harvard.edu349
DTSTART:20230927T223000Z
DTEND:20230928T003000Z
LOCATION:Urban Chestnut Grove Brewery and Bierhall, 4465 Manchester Ave, St Louis, MO, 63110,
SUMMARY:Welcome to Your City Event
DESCRIPTION:The Harvard Club of St. Louis is organizing a Welcome to Your City Event for September 27, 2023 Time: 5:30-7:30 p.m. CT Event Type: In-person Location: Urban Chestnut Grove Brewery and Bierhall, 4465 Manchester Ave, St. Louis, MO, 63110, United States
BEGIN:VALARM
TRIGGER:-PT15M
ACTION:DISPLAY
END:VALARM
TRANSP:OPAQUE
END:VEVENT
END:VCALENDAR
