BEGIN:VCALENDAR
VERSION:2.0
PRODID:-//OmniMagnetCalendar//EN
BEGIN:VEVENT
DTSTAMP:20190625T195740Z
STATUS:CONFIRMED
UID:hcstlouis.clubs.harvard.edu346
DTSTART:20230502T000000Z
DTEND:20230502T010000Z
LOCATION:JCC's Staenberg Family Complex in the Mirowitz Performing Arts Center, 2 Millstone Campus Dr.,, St Louis, MO, 63146,
SUMMARY:"The Cat's Meow: How Cats Evolved from the Savanna to Your Sofa"
DESCRIPTION:Join us for a lecture on the evolution of cats!
BEGIN:VALARM
TRIGGER:-PT15M
ACTION:DISPLAY
END:VALARM
TRANSP:OPAQUE
END:VEVENT
END:VCALENDAR
