BEGIN:VCALENDAR
VERSION:2.0
PRODID:-//OmniMagnetCalendar//EN
BEGIN:VEVENT
DTSTAMP:20190625T195740Z
STATUS:CONFIRMED
UID:hcstlouis.clubs.harvard.edu343
DTSTART:20230504T230000Z
DTEND:20230505T010000Z
LOCATION:Gravevine Wines, Kirkwood, 309 S Kirkwood Rd, Kirkwood, MO, 63122,
SUMMARY:All - Ivy Wine Class & Tasting
DESCRIPTION:Join us for wine tasting and an informative class, featuring a fascinating look at the history, science and technology of sparkling wines.
BEGIN:VALARM
TRIGGER:-PT15M
ACTION:DISPLAY
END:VALARM
TRANSP:OPAQUE
END:VEVENT
END:VCALENDAR
