BEGIN:VCALENDAR
VERSION:2.0
PRODID:-//OmniMagnetCalendar//EN
BEGIN:VEVENT
DTSTAMP:20190625T195740Z
STATUS:CONFIRMED
UID:hcstlouis.clubs.harvard.edu340
DTSTART:20221001T083000Z
DTEND:20220911T033000Z
LOCATION:Bellefontaine Cemetery, 4947 W Florissant Ave, St Louis, MO, 63115,
SUMMARY:Voices of Bellefontaine
DESCRIPTION:Join your fellow Ivy graduates for an exciting afternoon of “theatre in a cemetery” at renowned Bellefontaine Cemetery, followed by a reception and a chance to meet and ask questions of the cast and crew.
BEGIN:VALARM
TRIGGER:-PT15M
ACTION:DISPLAY
END:VALARM
TRANSP:OPAQUE
END:VEVENT
END:VCALENDAR
