BEGIN:VCALENDAR
VERSION:2.0
PRODID:-//OmniMagnetCalendar//EN
BEGIN:VEVENT
DTSTAMP:20190625T195740Z
STATUS:CONFIRMED
UID:hcstlouis.clubs.harvard.edu336
DTSTART:20230611T223000Z
DTEND:20230612T013000Z
LOCATION:Forest Park Golf Course Club House, 6141 Lagoon Dr, St Louis, MO, 63112,
SUMMARY:Annual Dinner June 11
DESCRIPTION:Join us for the Harvard Club of St Louis Annual Dinner
BEGIN:VALARM
TRIGGER:-PT15M
ACTION:DISPLAY
END:VALARM
TRANSP:OPAQUE
END:VEVENT
END:VCALENDAR
