BEGIN:VCALENDAR
VERSION:2.0
PRODID:-//OmniMagnetCalendar//EN
BEGIN:VEVENT
DTSTAMP:20190625T195740Z
STATUS:CONFIRMED
UID:hcstlouis.clubs.harvard.edu334
DTSTART:20220911T010000Z
DTEND:20220911T033000Z
LOCATION:Edison Theater at Washington University, 6465 Forsyth Blvd, St Louis, MO, 63105,
SUMMARY:Performance on Richard III by The Black Rep
DESCRIPTION:The Harvard Club of St. Louis invites you to join us for the opening of the season at The Black Rep, with a play that’s based on the true story of an all-Black production of Richard III in New York in 1821
BEGIN:VALARM
TRIGGER:-PT15M
ACTION:DISPLAY
END:VALARM
TRANSP:OPAQUE
END:VEVENT
END:VCALENDAR
