BEGIN:VCALENDAR
VERSION:2.0
PRODID:-//OmniMagnetCalendar//EN
BEGIN:VEVENT
DTSTAMP:20190625T195740Z
STATUS:CONFIRMED
UID:hcstlouis.clubs.harvard.edu331
DTSTART:20220618T210000Z
DTEND:20220618T230000Z
LOCATION:Clayton Shaw Park Picnic Site 4,
SUMMARY:Young Alumni Happy Hour
DESCRIPTION:The Harvard Club of St. Louis is organizing a Young Alumni Happy Hour in Clayton Shaw Park on Saturday, June 18 from 4 - 6pm.  We will also be joined by area young alumni from other Ivy League schools as well, so it will be a great opportunity to meet so
BEGIN:VALARM
TRIGGER:-PT15M
ACTION:DISPLAY
END:VALARM
TRANSP:OPAQUE
END:VEVENT
END:VCALENDAR
