BEGIN:VCALENDAR
VERSION:2.0
PRODID:-//OmniMagnetCalendar//EN
BEGIN:VEVENT
DTSTAMP:20190625T195740Z
STATUS:CONFIRMED
UID:hcstlouis.clubs.harvard.edu328
DTSTART:20220611T230000Z
DTEND:20220612T030000Z
LOCATION:Schlafly Tap Room, 2100 Locust Street, St Louis, MO, 63103,
SUMMARY:Annual Dinner June 11
DESCRIPTION:Join us for the Harvard Club of St Louis Annual Dinner
BEGIN:VALARM
TRIGGER:-PT15M
ACTION:DISPLAY
END:VALARM
TRANSP:OPAQUE
END:VEVENT
END:VCALENDAR
