BEGIN:VCALENDAR
VERSION:2.0
PRODID:-//OmniMagnetCalendar//EN
BEGIN:VEVENT
DTSTAMP:20190625T195740Z
STATUS:CONFIRMED
UID:hcstlouis.clubs.harvard.edu324
DTSTART:20220330T140000Z
DTEND:20220330T170000Z
LOCATION:10403 Baur Blvd, Suite H, St Louis, MO, 63132,
SUMMARY:Ready Readers Volunteer Opportunity
DESCRIPTION:Come help us pack book packets for children.
BEGIN:VALARM
TRIGGER:-PT15M
ACTION:DISPLAY
END:VALARM
TRANSP:OPAQUE
END:VEVENT
END:VCALENDAR
