BEGIN:VCALENDAR
VERSION:2.0
PRODID:-//OmniMagnetCalendar//EN
BEGIN:VEVENT
DTSTAMP:20190625T195740Z
STATUS:CONFIRMED
UID:hcstlouis.clubs.harvard.edu323
DTSTART:20220514T150000Z
DTEND:20220514T170000Z
LOCATION:Forest Park,
SUMMARY:5K supporting Girls on the Run
DESCRIPTION:A community run benefiting the Girls on the Run Scholarship Fund
BEGIN:VALARM
TRIGGER:-PT15M
ACTION:DISPLAY
END:VALARM
TRANSP:OPAQUE
END:VEVENT
END:VCALENDAR
