BEGIN:VCALENDAR
VERSION:2.0
PRODID:-//OmniMagnetCalendar//EN
BEGIN:VEVENT
DTSTAMP:20190625T195740Z
STATUS:CONFIRMED
UID:hcstlouis.clubs.harvard.edu322
DTSTART:20220521T230000Z
DTEND:20220522T020000Z
LOCATION:Knight Hall, Washington University in St. Louis, Snow Way, 1 Brookings Drive, Saint Louis, MO, 63105, USA,
SUMMARY:TEDx Talks and Dinner Show -- May 21, 2022 - All-IVY
DESCRIPTION:Join members of the Ivy League alumni community for an evening of TED talks, dinner, drinks, and networking.
BEGIN:VALARM
TRIGGER:-PT15M
ACTION:DISPLAY
END:VALARM
TRANSP:OPAQUE
END:VEVENT
END:VCALENDAR
