BEGIN:VCALENDAR
VERSION:2.0
PRODID:-//OmniMagnetCalendar//EN
BEGIN:VEVENT
DTSTAMP:20190625T195740Z
STATUS:CONFIRMED
UID:hcstlouis.clubs.harvard.edu321
DTSTART:20220331T230000Z
DTEND:20220401T010000Z
LOCATION:Virtual,
SUMMARY:Wine Tasting – In Person + Virtual
DESCRIPTION:Join us for wine tasting (in-person at Grapevine Wines in Kirkwood or via Zoom + wine/charcuterie kit) and learn about Old World Wines vs New World.
BEGIN:VALARM
TRIGGER:-PT15M
ACTION:DISPLAY
END:VALARM
TRANSP:OPAQUE
END:VEVENT
END:VCALENDAR
