BEGIN:VCALENDAR
VERSION:2.0
PRODID:-//OmniMagnetCalendar//EN
BEGIN:VEVENT
DTSTAMP:20190625T195740Z
STATUS:CONFIRMED
UID:hcstlouis.clubs.harvard.edu317
DTSTART:20211120T170000Z
DTEND:20211120T190000Z
LOCATION:Lester's Sports Bar, 9906 Clayton Rd, St Louis, 63124,
SUMMARY:Harvard vs Yale Football Game
DESCRIPTION:Harvard vs Yale Football Game at Lester's Sports Bar
BEGIN:VALARM
TRIGGER:-PT15M
ACTION:DISPLAY
END:VALARM
TRANSP:OPAQUE
END:VEVENT
END:VCALENDAR
