BEGIN:VCALENDAR
VERSION:2.0
PRODID:-//OmniMagnetCalendar//EN
BEGIN:VEVENT
DTSTAMP:20190625T195740Z
STATUS:CONFIRMED
UID:hcstlouis.clubs.harvard.edu315
DTSTART:20210819T213000Z
DTEND:20210819T223000Z
LOCATION:Central Library, 1301 Olive St, St Louis, MO, 63103,
SUMMARY:"Great City, Great Architecture: The Steedman Library and St. Louis" exhibit overview
DESCRIPTION:Director at St. Louis Public Library, Waller McGuire, will provide an overview of an amazing architecture collection, belonging to G.F. Steedman (Harvard class of 1892).
BEGIN:VALARM
TRIGGER:-PT15M
ACTION:DISPLAY
END:VALARM
TRANSP:OPAQUE
END:VEVENT
END:VCALENDAR
