BEGIN:VCALENDAR
VERSION:2.0
PRODID:-//OmniMagnetCalendar//EN
BEGIN:VEVENT
DTSTAMP:20190625T195740Z
STATUS:CONFIRMED
UID:hcstlouis.clubs.harvard.edu308
DTSTART:20210613T233000Z
DTEND:20210614T020000Z
LOCATION:St. Louis Zoo, 1 Government Drive, St. Louis, MO, 63110, USA,
SUMMARY:2021 Annual Dinner at the St. Louis Zoo
DESCRIPTION:
BEGIN:VALARM
TRIGGER:-PT15M
ACTION:DISPLAY
END:VALARM
TRANSP:OPAQUE
END:VEVENT
END:VCALENDAR
