BEGIN:VCALENDAR
VERSION:2.0
PRODID:-//OmniMagnetCalendar//EN
BEGIN:VEVENT
DTSTAMP:20190625T195740Z
STATUS:CONFIRMED
UID:hcstlouis.clubs.harvard.edu307
DTSTART:20210515T180000Z
DTEND:20210515T203000Z
LOCATION:Kirkwood Performing Arts Center, 210 E. Monroe Ave, Kirkwood, MO, 63122, USA,
SUMMARY:Special All-Ivy Performance:  The Very Hungry Caterpillar Show, May 15, 2021
DESCRIPTION:
BEGIN:VALARM
TRIGGER:-PT15M
ACTION:DISPLAY
END:VALARM
TRANSP:OPAQUE
END:VEVENT
END:VCALENDAR
