BEGIN:VCALENDAR
VERSION:2.0
PRODID:-//OmniMagnetCalendar//EN
BEGIN:VEVENT
DTSTAMP:20190625T195740Z
STATUS:CONFIRMED
UID:hcstlouis.clubs.harvard.edu305
DTSTART:20210413T223000Z
DTEND:20210413T233000Z
LOCATION:Virtual,
SUMMARY:Communicating in Public Health Emergencies: a Virtual Talk with Harvard's Elena Savoia
DESCRIPTION:
BEGIN:VALARM
TRIGGER:-PT15M
ACTION:DISPLAY
END:VALARM
TRANSP:OPAQUE
END:VEVENT
END:VCALENDAR
