BEGIN:VCALENDAR
VERSION:2.0
PRODID:-//OmniMagnetCalendar//EN
BEGIN:VEVENT
DTSTAMP:20190625T195740Z
STATUS:CONFIRMED
UID:hcstlouis.clubs.harvard.edu304
DTSTART:20210522T143000Z
DTEND:20210522T163000Z
LOCATION:Virtual: Zoom link to be emailed to registered participants, St Louis, MO,
SUMMARY:TEDx Workshop
DESCRIPTION:Do you enjoy watching TED talks? If so, we are offering a free online workshop to help you hone your own message into a compelling ten minute talk for a general audience. 
BEGIN:VALARM
TRIGGER:-PT15M
ACTION:DISPLAY
END:VALARM
TRANSP:OPAQUE
END:VEVENT
END:VCALENDAR
