BEGIN:VCALENDAR
VERSION:2.0
PRODID:-//OmniMagnetCalendar//EN
BEGIN:VEVENT
DTSTAMP:20190625T195740Z
STATUS:CONFIRMED
UID:hcstlouis.clubs.harvard.edu302
DTSTART:20201220T190000Z
DTEND:20201220T210000Z
LOCATION:The Miriam Academy, 1138 North Warson Road, Saint Louis, MO, 63132, USA,
SUMMARY:Alternative Holiday Party & Food Drive
DESCRIPTION:Since gathering in person indoors is an unacceptable risk this December, The Harvard Club of St. Louis has re-imagined its annual holiday party, to combine safety with service to the community.
BEGIN:VALARM
TRIGGER:-PT15M
ACTION:DISPLAY
END:VALARM
TRANSP:OPAQUE
END:VEVENT
END:VCALENDAR
