BEGIN:VCALENDAR
VERSION:2.0
PRODID:-//OmniMagnetCalendar//EN
BEGIN:VEVENT
DTSTAMP:20190625T195740Z
STATUS:CONFIRMED
UID:hcstlouis.clubs.harvard.edu301
DTSTART:20201111T230000Z
DTEND:20201112T003000Z
LOCATION:Zoom,
SUMMARY: Dr. Richard Bell (PhD 2006), author of Stolen: Five Free Boys Kidnapped into Slavery ...
DESCRIPTION:Join us for a talk with Dr. Richard Bell, author of the new book Stolen: Five Free Boys Kidnapped into Slavery and their Astonishing Odyssey Home—a finalist for both the 2020 George Washington Prize and the 2020 Harriet Tubman Prize.
BEGIN:VALARM
TRIGGER:-PT15M
ACTION:DISPLAY
END:VALARM
TRANSP:OPAQUE
END:VEVENT
END:VCALENDAR
