BEGIN:VCALENDAR
VERSION:2.0
PRODID:-//OmniMagnetCalendar//EN
BEGIN:VEVENT
DTSTAMP:20190625T195740Z
STATUS:CONFIRMED
UID:hcstlouis.clubs.harvard.edu297
DTSTART:20200924T130000Z
DTEND:20200924T223000Z
LOCATION:Virtual Event,
SUMMARY:Harvard GSD Alumni Council Design Impact Summit, September 24
DESCRIPTION:The Alumni Council of the Harvard Graduate School of Design in partnership with HAAUS is excited to share this invitation with you and the constituency of your club to attend Design Impact: Transformation at the Intersection of Climate Change, Equity, and
BEGIN:VALARM
TRIGGER:-PT15M
ACTION:DISPLAY
END:VALARM
TRANSP:OPAQUE
END:VEVENT
END:VCALENDAR
