BEGIN:VCALENDAR
VERSION:2.0
PRODID:-//OmniMagnetCalendar//EN
BEGIN:VEVENT
DTSTAMP:20190625T195740Z
STATUS:CONFIRMED
UID:hcstlouis.clubs.harvard.edu295
DTSTART:20200930T233000Z
DTEND:20201001T003000Z
LOCATION:Zoom,
SUMMARY:Young Alumni Networking Event
DESCRIPTION:A virtual networking event for St. Louis area alumni from Harvard College who are recent graduates and / or are new to the area.  
BEGIN:VALARM
TRIGGER:-PT15M
ACTION:DISPLAY
END:VALARM
TRANSP:OPAQUE
END:VEVENT
END:VCALENDAR
