BEGIN:VCALENDAR
VERSION:2.0
PRODID:-//OmniMagnetCalendar//EN
BEGIN:VEVENT
DTSTAMP:20190625T195740Z
STATUS:CONFIRMED
UID:hcstlouis.clubs.harvard.edu291
DTSTART:20200611T193000Z
DTEND:20200611T210000Z
LOCATION:Country Club of St. Albans - Tavern Creek Course,
SUMMARY:HBS Community Conversation on Race
DESCRIPTION:All members of the HBS community (students, alumni, staff and faculty) are cordially invited to participate virtually in a conversation on race in America. 
BEGIN:VALARM
TRIGGER:-PT15M
ACTION:DISPLAY
END:VALARM
TRANSP:OPAQUE
END:VEVENT
END:VCALENDAR
