BEGIN:VCALENDAR
VERSION:2.0
PRODID:-//OmniMagnetCalendar//EN
BEGIN:VEVENT
DTSTAMP:20190625T195740Z
STATUS:CONFIRMED
UID:hcstlouis.clubs.harvard.edu285
DTSTART:20200318T230000Z
DTEND:20200319T010000Z
LOCATION:The Coronado, 3701 Lindell Boulevard, Saint Louis, MO, 63108, USA,
SUMMARY:CANCELLED Due to COVID-19!  A Conversation with Harvard President Lawrence S. Bacow
DESCRIPTION:
BEGIN:VALARM
TRIGGER:-PT15M
ACTION:DISPLAY
END:VALARM
TRANSP:OPAQUE
END:VEVENT
END:VCALENDAR
