BEGIN:VCALENDAR
VERSION:2.0
PRODID:-//OmniMagnetCalendar//EN
BEGIN:VEVENT
DTSTAMP:20190625T195740Z
STATUS:CONFIRMED
UID:hcstlouis.clubs.harvard.edu282
DTSTART:20200308T000000Z
DTEND:20200308T033000Z
LOCATION:Knight Hall, Washington University in St. Louis, Snow Way, 1 Brookings Drive, Saint Louis, MO, 63105, USA,
SUMMARY:TEDx Talks and Dinner Show -- March 7, 2020 - All-IVY
DESCRIPTION:Join members of the Ivy League alumni community for an evening of TED talks, drinks, and networking.
BEGIN:VALARM
TRIGGER:-PT15M
ACTION:DISPLAY
END:VALARM
TRANSP:OPAQUE
END:VEVENT
END:VCALENDAR
