BEGIN:VCALENDAR
VERSION:2.0
PRODID:-//OmniMagnetCalendar//EN
BEGIN:VEVENT
DTSTAMP:20190625T195740Z
STATUS:CONFIRMED
UID:hcstlouis.clubs.harvard.edu281
DTSTART:20200216T200000Z
DTEND:20200216T220000Z
LOCATION:Mandarin House, 8004 Olive Boulevard, Saint Louis, MO, 63130, USA,
SUMMARY:Asian Lunar New Year Dim Sum Celebration - February 16, 2020 - ALL-IVY
DESCRIPTION:Join members of the Harvard Club of St. Louis and other Ivy League schools to celebrate the Year of the Rat with Dim Sum and traditional Chinese entertainment.
BEGIN:VALARM
TRIGGER:-PT15M
ACTION:DISPLAY
END:VALARM
TRANSP:OPAQUE
END:VEVENT
END:VCALENDAR
