BEGIN:VCALENDAR
VERSION:2.0
PRODID:-//OmniMagnetCalendar//EN
BEGIN:VEVENT
DTSTAMP:20190625T195740Z
STATUS:CONFIRMED
UID:hcstlouis.clubs.harvard.edu278
DTSTART:20191109T143000Z
DTEND:20191109T183000Z
LOCATION:Innovation Hall, 4220 Duncan Ave, St. Louis, MO, 63110,
SUMMARY:TEDx Breakfast workshop
DESCRIPTION:Do you enjoy watching TED talks? If so, we are offering a free workshop to help you hone your own message into a compelling ten minute talk for public audiences.
BEGIN:VALARM
TRIGGER:-PT15M
ACTION:DISPLAY
END:VALARM
TRANSP:OPAQUE
END:VEVENT
END:VCALENDAR
