BEGIN:VCALENDAR
VERSION:2.0
PRODID:-//OmniMagnetCalendar//EN
BEGIN:VEVENT
DTSTAMP:20190625T195740Z
STATUS:CONFIRMED
UID:hcstlouis.clubs.harvard.edu276
DTSTART:20191004T180000Z
DTEND:20191004T230000Z
LOCATION:Country Club of St. Albans - Tavern Creek Course, 3165 St Albans Road, St Albans, MO, 63073,
SUMMARY:Princeton Club All-IVY Golf Tournament - October 4, 2019
DESCRIPTION:18 holes of golf, cart, boxed lunch, and on-course beverages.  Tickets can be purchased at the Princeton Club of St. Louis website:  https://sites.google.com/site/pcstl262/special-events
BEGIN:VALARM
TRIGGER:-PT15M
ACTION:DISPLAY
END:VALARM
TRANSP:OPAQUE
END:VEVENT
END:VCALENDAR
