BEGIN:VCALENDAR
VERSION:2.0
PRODID:-//OmniMagnetCalendar//EN
BEGIN:VEVENT
DTSTAMP:20190625T195740Z
STATUS:CONFIRMED
UID:hcstlouis.clubs.harvard.edu273
DTSTART:20191024T223000Z
DTEND:20191025T010000Z
LOCATION:St. Louis Community College at Forest Park - Student Center Cafe, 5600 Oakland Ave, St. Louis, MO, 63110,
SUMMARY:Food for Thought: Hungry in School - October 24, 2019
DESCRIPTION:
BEGIN:VALARM
TRIGGER:-PT15M
ACTION:DISPLAY
END:VALARM
TRANSP:OPAQUE
END:VEVENT
END:VCALENDAR
