BEGIN:VCALENDAR
VERSION:2.0
PRODID:-//OmniMagnetCalendar//EN
BEGIN:VEVENT
DTSTAMP:20190625T195740Z
STATUS:CONFIRMED
UID:hcstlouis.clubs.harvard.edu272
DTSTART:20191002T233000Z
DTEND:20191003T013000Z
LOCATION:McGurk’s Irish Pub and Garden, 1200 Russell Blvd, St. Louis, MO, 63104,
SUMMARY:Welcome to Your City:  St. Louis - October 2, 2019
DESCRIPTION:
BEGIN:VALARM
TRIGGER:-PT15M
ACTION:DISPLAY
END:VALARM
TRANSP:OPAQUE
END:VEVENT
END:VCALENDAR
