BEGIN:VCALENDAR
VERSION:2.0
PRODID:-//OmniMagnetCalendar//EN
BEGIN:VEVENT
DTSTAMP:20190625T195740Z
STATUS:CONFIRMED
UID:hcstlouis.clubs.harvard.edu271
DTSTART:20191123T163000Z
DTEND:20191123T203000Z
LOCATION:Schneithorst's, 1600 S. Lindbergh, Ladue, MO, 63131,
SUMMARY:Watch Party:  136th Edition of THE GAME
DESCRIPTION:As is our tradition, we meet at Schneithorst's, 1600 S. Lindbergh, Ladue, MO, along with members of the Yale Club.  Kickoff is at 1100 am.
BEGIN:VALARM
TRIGGER:-PT15M
ACTION:DISPLAY
END:VALARM
TRANSP:OPAQUE
END:VEVENT
END:VCALENDAR
