BEGIN:VCALENDAR
VERSION:2.0
PRODID:-//OmniMagnetCalendar//EN
BEGIN:VEVENT
DTSTAMP:20190625T195740Z
STATUS:CONFIRMED
UID:hcstlouis.clubs.harvard.edu267
DTSTART:20190725T233000Z
DTEND:20190726T013000Z
LOCATION:Home of Karen Kalish, 225 Linden Ave, Saint Louis, MO, 63105, USA,
SUMMARY:Meet the Harvard Summer Community Service Fellows, July 25, 630pm – 830pm
DESCRIPTION:Come to the home of Karen Kalish (HKS 2000), to hear from four Harvard students working on community service projects in Metro St. Louis this summer.
BEGIN:VALARM
TRIGGER:-PT15M
ACTION:DISPLAY
END:VALARM
TRANSP:OPAQUE
END:VEVENT
END:VCALENDAR
