BEGIN:VCALENDAR
VERSION:2.0
PRODID:-//OmniMagnetCalendar//EN
BEGIN:VEVENT
DTSTAMP:20190625T195740Z
STATUS:CONFIRMED
UID:hcstlouis.clubs.harvard.edu266
DTSTART:20191016T223000Z
DTEND:20191017T010000Z
LOCATION:208 S Meramec Ave., Saint Louis, MO, 63105,
SUMMARY:HBS Global Networking Night - October 16, 2019
DESCRIPTION:It's Global Networking Night! HBS alumni throughout the world will come together for an evening of informal networking and engagement.  There's no better time to be connected – welcome recent graduates and meet other alumni in your city at this relaxed
BEGIN:VALARM
TRIGGER:-PT15M
ACTION:DISPLAY
END:VALARM
TRANSP:OPAQUE
END:VEVENT
END:VCALENDAR
