BEGIN:VCALENDAR
VERSION:2.0
PRODID:-//OmniMagnetCalendar//EN
BEGIN:VEVENT
DTSTAMP:20190625T195740Z
STATUS:CONFIRMED
UID:hcstlouis.clubs.harvard.edu263
DTSTART:20190523T210000Z
DTEND:20190523T230000Z
LOCATION:Federal Reserve Bank of St. Louis, One Federal Reserve Plaza, St. Louis, MOI, 63102, USA,
SUMMARY:Oren Cass, JD 2012 "Thrivers vs. Strugglers: A Growing Economic Divide - and What to Do about It"
DESCRIPTION:
BEGIN:VALARM
TRIGGER:-PT15M
ACTION:DISPLAY
END:VALARM
TRANSP:OPAQUE
END:VEVENT
END:VCALENDAR
