BEGIN:VCALENDAR
VERSION:2.0
PRODID:-//OmniMagnetCalendar//EN
BEGIN:VEVENT
DTSTAMP:20190625T195740Z
STATUS:CONFIRMED
UID:hcstlouis.clubs.harvard.edu257
DTSTART:20190410T231500Z
DTEND:20190411T014500Z
LOCATION:208 S Meramec Ave, Clayton, MO, 63105, USA,
SUMMARY:Professor Joe Fuller, Harvard Business School, discusses "Future of Work", April 10, 2019
DESCRIPTION:Learn about Harvard Business School's research on managing the future of work.
BEGIN:VALARM
TRIGGER:-PT15M
ACTION:DISPLAY
END:VALARM
TRANSP:OPAQUE
END:VEVENT
END:VCALENDAR
