BEGIN:VCALENDAR
VERSION:2.0
PRODID:-//OmniMagnetCalendar//EN
BEGIN:VEVENT
DTSTAMP:20190625T195740Z
STATUS:CONFIRMED
UID:hcstlouis.clubs.harvard.edu256
DTSTART:20190408T000000Z
DTEND:20190408T023000Z
LOCATION:123 St. Eugene Drive, Belleville, IL, 62223, USA,
SUMMARY:Opera Theater of St. Louis, Tastings Event @ Hofbrauhaus, April 7, 2019
DESCRIPTION:Opera Theatre of Saint Louis’s popular Opera Tastings is a  unique series of 80-minute “culinary concerts” that serve as "the perfect introduction to opera."  Tickets are $25 for non-members and $15 for members.  Seating is limited.
BEGIN:VALARM
TRIGGER:-PT15M
ACTION:DISPLAY
END:VALARM
TRANSP:OPAQUE
END:VEVENT
END:VCALENDAR
