BEGIN:VCALENDAR
VERSION:2.0
PRODID:-//OmniMagnetCalendar//EN
BEGIN:VEVENT
DTSTAMP:20190625T195740Z
STATUS:CONFIRMED
UID:hcstlouis.clubs.harvard.edu255
DTSTART:20190323T230000Z
DTEND:20190324T023000Z
LOCATION:2319 Chouteau Ave #100, Saint Louis, 63103,
SUMMARY:Arch City Defenders Trivia Night, March 23, 2019
DESCRIPTION:Help us celebrate Arch City Defenders' 10th Anniversary by joining a Harvard team for a trivia competition on March 23, 2019.  Free snacks & beer.  Silent Auction and Games.
BEGIN:VALARM
TRIGGER:-PT15M
ACTION:DISPLAY
END:VALARM
TRANSP:OPAQUE
END:VEVENT
END:VCALENDAR
