BEGIN:VCALENDAR
VERSION:2.0
PRODID:-//OmniMagnetCalendar//EN
BEGIN:VEVENT
DTSTAMP:20190625T195740Z
STATUS:CONFIRMED
UID:hcstlouis.clubs.harvard.edu247
DTSTART:20181218T230000Z
DTEND:20181219T001500Z
LOCATION:International Tap House, 16 S Euclid Ave, Saint Louis, MO, 63108, USA,
SUMMARY:Pre-Holiday Party Meetup at itap (the International Tap House)
DESCRIPTION:Meetup at ITAP in the Central West End, 16 S Euclid Ave, St. Louis, MO 63108.  Grab a drink (or a snack) with alumni from the classes of 2004 - 2018 before heading over to the Harris' house for the Annual Holiday party.  (Other classes welcome, too!)
BEGIN:VALARM
TRIGGER:-PT15M
ACTION:DISPLAY
END:VALARM
TRANSP:OPAQUE
END:VEVENT
END:VCALENDAR
