BEGIN:VCALENDAR
VERSION:2.0
PRODID:-//OmniMagnetCalendar//EN
BEGIN:VEVENT
DTSTAMP:20190625T195740Z
STATUS:CONFIRMED
UID:hcstlouis.clubs.harvard.edu246
DTSTART:20190217T183000Z
DTEND:20190217T203000Z
LOCATION:Wei Hong Seafood Restaurant, 7740 Olive Boulevard, Saint Louis, MO, 63130, USA,
SUMMARY:Asian Lunar New Year Dim Sum Celebration - February 17, 2019 - ALL-IVY
DESCRIPTION:Join members of the Harvard Club of St. Louis and other Ivy League schools to celebrate the Year of the Pig with Dim Sum and traditional Chinese entertainment.
BEGIN:VALARM
TRIGGER:-PT15M
ACTION:DISPLAY
END:VALARM
TRANSP:OPAQUE
END:VEVENT
END:VCALENDAR
