BEGIN:VCALENDAR
VERSION:2.0
PRODID:-//OmniMagnetCalendar//EN
BEGIN:VEVENT
DTSTAMP:20190625T195740Z
STATUS:CONFIRMED
UID:hcstlouis.clubs.harvard.edu244
DTSTART:20190110T000000Z
DTEND:20190110T020000Z
LOCATION:Innovation Cafe, Coretex Innovation Community, 4240 Duncan Ave, Saint Louis, MO, 63110,
SUMMARY:Global Networking Night, 2019
DESCRIPTION:The Harvard Alumni Association invites you to join fellow local alumni for Global Networking Night in St. Louis. Register to reconnect with classmates and make new connections.
BEGIN:VALARM
TRIGGER:-PT15M
ACTION:DISPLAY
END:VALARM
TRANSP:OPAQUE
END:VEVENT
END:VCALENDAR
