BEGIN:VCALENDAR
VERSION:2.0
PRODID:-//OmniMagnetCalendar//EN
BEGIN:VEVENT
DTSTAMP:20190625T195740Z
STATUS:CONFIRMED
UID:hcstlouis.clubs.harvard.edu243
DTSTART:20181219T000000Z
DTEND:20181219T030000Z
LOCATION:Home of Harvey and Judy Harris, 31 Westmoreland Place, Saint Louis, MO, 63108, United States,
SUMMARY:Annual Holiday Party
DESCRIPTION:Please join us at the home of Harvey and Judy Harris, 31 Westmoreland Place, Saint Louis, MO  63108 at 6:00pm on Tuesday, December, 18.  Reconnect with local alumni, meet current students, and welcome newly-admitted members of the Class of 2023!
BEGIN:VALARM
TRIGGER:-PT15M
ACTION:DISPLAY
END:VALARM
TRANSP:OPAQUE
END:VEVENT
END:VCALENDAR
