BEGIN:VCALENDAR
VERSION:2.0
PRODID:-//OmniMagnetCalendar//EN
BEGIN:VEVENT
DTSTAMP:20190625T195740Z
STATUS:CONFIRMED
UID:hcstlouis.clubs.harvard.edu238
DTSTART:20181117T170000Z
DTEND:20181117T203000Z
LOCATION:Schneithorst's, 1600 S. Lindbergh, Ladue, MO, 63131,
SUMMARY:Viewing of 135th Edition of THE GAME
DESCRIPTION:This year, THE GAME will take place at Fenway Park.  As is our tradition, we meet at Schneithorst's, 1600 S. Lindbergh, Ladue, MO, along with members of the Yale Club.  Kickoff is at 1100 am.
BEGIN:VALARM
TRIGGER:-PT15M
ACTION:DISPLAY
END:VALARM
TRANSP:OPAQUE
END:VEVENT
END:VCALENDAR
